BEGIN:VCALENDAR
VERSION:2.0
PRODID:-//ChamberMaster//Event Calendar 2.0//EN
METHOD:PUBLISH
X-PUBLISHED-TTL:P3D
REFRESH-INTERVAL:P3D
CALSCALE:GREGORIAN
BEGIN:VEVENT
DTSTART;VALUE=DATE:20061007
DTEND;VALUE=DATE:20061008
TRANSP:TRANSPARENT
X-MICROSOFT-CDO-ALLDAYEVENT:TRUE
SUMMARY:2006 Fall Golf Tournament
DESCRIPTION:Colonial Country Club\n\n7:30 am - Registration\n\n8:30 am - Shot Gun Start\n\nClick here for registration and sponsorship form.\n\nPlease print and fax to us at 239-936-5839.
X-ALT-DESC;FMTTYPE=text/html:Colonial Country Club<br />\n7:30 am - Registration<br />\n8:30 am - Shot Gun Start<br />\n<strong>Click <a href="http://www.bia.net/documents/Golffall06flyer_000.pdf" target="_blank">here</a>&nbsp\;for registration and sponsorship form.<br />\nPlease print and fax to us at 239-936-5839.</strong>
LOCATION:
UID:e.9371.34
SEQUENCE:3
DTSTAMP:20260422T111222Z
URL:http://members.bia.net/events/details/2006-fall-golf-tournament-34
END:VEVENT

END:VCALENDAR
