BEGIN:VCALENDAR
VERSION:2.0
PRODID:-//ChamberMaster//Event Calendar 2.0//EN
METHOD:PUBLISH
X-PUBLISHED-TTL:P3D
REFRESH-INTERVAL:P3D
CALSCALE:GREGORIAN
BEGIN:VEVENT
DTSTART;VALUE=DATE:20060926
DTEND;VALUE=DATE:20060927
TRANSP:TRANSPARENT
X-MICROSOFT-CDO-ALLDAYEVENT:TRUE
SUMMARY:2006 September General Membership Meeting
DESCRIPTION:Grandezza Golf & Country Club 5:30 pm - 7:30 pm Brad Hunter\, Metro Study "Housing Market Trends in Southwest Florida"
X-ALT-DESC;FMTTYPE=text/html:Grandezza Golf &amp\; Country Club 5:30 pm - 7:30 pm Brad Hunter\, Metro Study &quot\;Housing Market Trends in Southwest Florida&quot\;
LOCATION:
UID:e.9371.33
SEQUENCE:3
DTSTAMP:20260422T122821Z
URL:http://members.bia.net/events/details/2006-september-general-membership-meeting-33
END:VEVENT

END:VCALENDAR
