BEGIN:VCALENDAR
VERSION:2.0
PRODID:-//ChamberMaster//Event Calendar 2.0//EN
METHOD:PUBLISH
X-PUBLISHED-TTL:P3D
REFRESH-INTERVAL:P3D
CALSCALE:GREGORIAN
BEGIN:VEVENT
DTSTART;VALUE=DATE:20070724
DTEND;VALUE=DATE:20070725
TRANSP:TRANSPARENT
X-MICROSOFT-CDO-ALLDAYEVENT:TRUE
SUMMARY:2007 10th Annual BIA Bistro Bash!
DESCRIPTION:Join us for our 10th Annual Bistro Bash!\n\nWhen:  5:30pm - 7:30pm\n\nWhere:  Bistro 41 - Bell Tower Shops\n\nCost:  $25 Members | $30 Non-Members
X-ALT-DESC;FMTTYPE=text/html:<p><strong><u>Join us for our 10th Annual Bistro Bash!</u></strong></p>\n\n<p>When:&nbsp\; 5:30pm - 7:30pm</p>\n\n<p>Where:&nbsp\; Bistro 41 - Bell Tower Shops</p>\n\n<p>Cost:&nbsp\; $25 Members |&nbsp\;$30 Non-Members</p>\n
LOCATION:
UID:e.9371.60
SEQUENCE:3
DTSTAMP:20260421T182321Z
URL:http://members.bia.net/events/details/2007-10th-annual-bia-bistro-bash-60
END:VEVENT

END:VCALENDAR
