BEGIN:VCALENDAR
VERSION:2.0
PRODID:-//ChamberMaster//Event Calendar 2.0//EN
METHOD:PUBLISH
X-PUBLISHED-TTL:P3D
REFRESH-INTERVAL:P3D
CALSCALE:GREGORIAN
BEGIN:VEVENT
DTSTART;VALUE=DATE:20070118
DTEND;VALUE=DATE:20070119
TRANSP:TRANSPARENT
X-MICROSOFT-CDO-ALLDAYEVENT:TRUE
SUMMARY:2007 1st Annual Contractor's Showcase
DESCRIPTION:Three Oaks Banquet Center\n\n20991 Three Oaks Parkway\, Estero\, FL  33928\n\nDo not miss out on this fantastic opportunity\n\nto meet and network with others in the industry!\n\nGet face to face with those who can help your company grow.\n\nWe are SOLD OUT of Exhibitor Booths!\n\nYou are\, however\, Invited to Attend-\n\nthis is a great way to network on a one-on-one basis. \n\nPlease click here to register.\n\nExhibitors' Tentative Schedule of Events\n\nSet up starts at 1:00 pm\n\nDoors open at 4:00 pm  to attendees
X-ALT-DESC;FMTTYPE=text/html:<strong>Three Oaks Banquet Center</strong><br />\n<strong><em>20991 Three Oaks Parkway\, Estero\, FL&nbsp\; 33928</em><br />\nDo not miss out on this fantastic opportunity<br />\nto meet and network with others in the industry!<br />\nGet face to face with those who can help your company grow.<br />\n<font color="#ff0000"><strong><font color="#ff0000">We are SOLD OUT of Exhibitor Booths!</font></strong></font><br />\nYou are\, however\, <font style="font-size: 14px\;"><strong>Invited to Attend</strong></font>-<br />\nthis is a great way to&nbsp\;network on a&nbsp\;one-on-one basis.&nbsp\;<br />\n<strong>Please click <a href="https://builderfusion.bia.net/bf/messaging/AttendeeRegistrationForm-The1stAnnualContractorsShowcase.pdf" target="_blank">here</a> to register.</strong><br />\n<strong><strong style="font-style: italic\;">Exhibitors&rsquo\; Tentative Schedule of Events</strong><br />\nSet up starts at 1:00 pm<br />\nDoors open at 4:00 pm&nbsp\; to attendees</strong></strong>
LOCATION:
UID:e.9371.44
SEQUENCE:3
DTSTAMP:20260422T051130Z
URL:http://members.bia.net/events/details/2007-1st-annual-contractor-s-showcase-44
END:VEVENT

END:VCALENDAR
