BEGIN:VCALENDAR
VERSION:2.0
PRODID:-//ChamberMaster//Event Calendar 2.0//EN
METHOD:PUBLISH
X-PUBLISHED-TTL:P3D
REFRESH-INTERVAL:P3D
CALSCALE:GREGORIAN
BEGIN:VEVENT
DTSTART;VALUE=DATE:20070922
DTEND;VALUE=DATE:20070923
TRANSP:TRANSPARENT
X-MICROSOFT-CDO-ALLDAYEVENT:TRUE
SUMMARY:2007 Summit Awards Ceremony
DESCRIPTION:Join us for the 2nd Annual Summit Awards  Celebration where we will recognize those in the Commercial Construction Industry who achieved an outstanding level of success and professionalism during the year 2006.\n\nReception: 6:30 pm\n\nDinner: 7:30 pm\n\nfollowed by the Awards Ceremony\n\n\n\nSanibel Harbour Resort & Spa\n\nThe Everglades Ballroom\n\n$100 per person.  RSVPs are due by September 7\, 2007. Click here for RSVP form.\n\nFor exclusive member room rates for the event\, please visit this link: Sanibel Harbour Resort & Spa.
X-ALT-DESC;FMTTYPE=text/html:<p>Join us for the <strong>2nd Annual Summit Awards&trade\; Celebration</strong> where we will recognize those in the Commercial Construction Industry who achieved an outstanding level of success and professionalism during the year 2006.</p>\n\n<p>Reception: 6:30 pm<br />\nDinner: 7:30 pm<br />\n<em>followed by the Awards Ceremony</em><br />\n<br />\nSanibel Harbour Resort &amp\; Spa<br />\nThe Everglades Ballroom<br />\n$100 per person.&nbsp\; RSVPs are&nbsp\;due by September 7\, 2007. Click <a href="https://builderfusion.bia.net/bf/messaging/OnlineInvite2.pdf" target="_blank">here</a> for RSVP form.<br />\nFor exclusive member&nbsp\;room rates for the event\, please visit this link: <a href="http://www.sanibel-resort.com/eventcal_affinity/">Sanibel Harbour Resort &amp\; Spa</a>.</p>\n
LOCATION:
UID:e.9371.65
SEQUENCE:3
DTSTAMP:20260421T144238Z
URL:http://members.bia.net/events/details/2007-summit-awards-ceremony-65
END:VEVENT

END:VCALENDAR
