BEGIN:VCALENDAR
VERSION:2.0
PRODID:-//ChamberMaster//Event Calendar 2.0//EN
METHOD:PUBLISH
X-PUBLISHED-TTL:P3D
REFRESH-INTERVAL:P3D
CALSCALE:GREGORIAN
BEGIN:VEVENT
DTSTART;VALUE=DATE:20070817
DTEND;VALUE=DATE:20070818
TRANSP:TRANSPARENT
X-MICROSOFT-CDO-ALLDAYEVENT:TRUE
SUMMARY:2007 Summit Awards - Entries Due
DESCRIPTION:The 2007 Summit Awards  - paying tribute to our members who have obtained an outstanding level of success and professionalism in the commercial construction industry.  Brought to you by the Lee BIA's Commercial Contractors Council. All Entries are due today by 5 pm.  Please call us with any questions.
X-ALT-DESC;FMTTYPE=text/html:<p>The 2007 Summit Awards&trade\; - paying tribute to our members who have obtained an outstanding level of success and professionalism in the commercial construction industry.&nbsp\; Brought to you by the Lee BIA&rsquo\;s Commercial Contractors Council.</p> <p><strong>All Entries are due today by 5 pm.&nbsp\; Please call us with any questions.</strong></p>
LOCATION:
UID:e.9371.62
SEQUENCE:3
DTSTAMP:20260421T162338Z
URL:http://members.bia.net/events/details/2007-summit-awards-entries-due-08-17-2007-62
END:VEVENT

END:VCALENDAR
