BEGIN:VCALENDAR
VERSION:2.0
PRODID:-//ChamberMaster//Event Calendar 2.0//EN
METHOD:PUBLISH
X-PUBLISHED-TTL:P3D
REFRESH-INTERVAL:P3D
CALSCALE:GREGORIAN
BEGIN:VEVENT
DTSTART;VALUE=DATE:20070920
DTEND;VALUE=DATE:20070921
TRANSP:TRANSPARENT
X-MICROSOFT-CDO-ALLDAYEVENT:TRUE
SUMMARY:2007 Talk to OSHA!
DESCRIPTION:Talk to OSHA!\n\nLearn from the LEADING OSHA OFFICIALS how to obtain the leverage to successfully lower your rates of accidents and injuries.\n\nSeptember 20\, 2007\n\n5:30pm - 7:00pm\n\nGrandezza Country Club\n\nGuest Speakers:  Dr. Robert Nesbit\, head of OSHA Training Institute and Charlene Vespi\, Head of the Safety Consultation Unit\, both at the University of South Florida.\n\nClick here to RSVP.
X-ALT-DESC;FMTTYPE=text/html:<p><strong><font style="font-size: 16px\;"><strong>Talk to OSHA!</strong></font></strong></p>\n\n<p><font style="font-size: 14px\;">Learn from the LEADING OSHA OFFICIALS how to obtain the leverage to successfully lower your rates of accidents and injuries.</font></p>\n\n<p><font style="font-size: 14px\;">September 20\, 2007</font></p>\n\n<p><font style="font-size: 14px\;">5:30pm - 7:00pm</font></p>\n\n<p><font style="font-size: 14px\;">Grandezza Country Club</font></p>\n\n<p><font style="font-size: 14px\;"><strong>Guest Speakers:</strong>&nbsp\; <em>Dr. Robert Nesbit</em>\, head of OSHA Training Institute and <em>Charlene Vespi</em>\, Head of the Safety Consultation Unit\, both&nbsp\;at the University of South Florida.</font></p>\n\n<p><font style="font-size: 14px\;"><a href="https://builderfusion.bia.net/bf/messaging/OSHA%20Meeting%20-%209.20.07%20-%20Reservation%20Form.pdf" target="_blank">Click here to RSVP.</a></font></p>\n
LOCATION:11471 Grande Oak Boulevard Estero\, FL 33928
UID:e.9371.64
SEQUENCE:3
DTSTAMP:20260421T142822Z
URL:http://members.bia.net/events/details/2007-talk-to-osha-64
END:VEVENT

END:VCALENDAR
