BEGIN:VCALENDAR
VERSION:2.0
PRODID:-//ChamberMaster//Event Calendar 2.0//EN
METHOD:PUBLISH
X-PUBLISHED-TTL:P3D
REFRESH-INTERVAL:P3D
CALSCALE:GREGORIAN
BEGIN:VEVENT
DTSTART;VALUE=DATE:20070619
DTEND;VALUE=DATE:20070620
TRANSP:TRANSPARENT
X-MICROSOFT-CDO-ALLDAYEVENT:TRUE
SUMMARY:2007 Young Building Professionals Meeting
DESCRIPTION:For Professionals 21-40 years of age.\n\n5:30pm - 6:30pm: Cash Bar\, Hors D'oeuvres\, Networking\n\n6:30pm - 7:30pm: Meeting\n\nRoyal Palm Yacht Club\, downtown Fort Myers\n\n$25 Members |  $30 Non-Members\n\nTo RSVP\, please click here.
X-ALT-DESC;FMTTYPE=text/html:<p>For Professionals 21-40 years of age.</p>\n\n<p>5:30pm - 6:30pm: Cash Bar\, Hors D&rsquo\;oeuvres\, Networking</p>\n\n<p>6:30pm - 7:30pm: Meeting</p>\n\n<p>Royal Palm Yacht Club\, downtown Fort Myers</p>\n\n<p>$25 Members |&nbsp\; $30 Non-Members</p>\n\n<p>To RSVP\, please click <a href="https://builderfusion.bia.net/bf/messaging/june07.pdf" target="_blank">here</a>.</p>\n
LOCATION:
UID:e.9371.58
SEQUENCE:3
DTSTAMP:20260421T200728Z
URL:http://members.bia.net/events/details/2007-young-building-professionals-meeting-06-19-2007-58
END:VEVENT

END:VCALENDAR
