BEGIN:VCALENDAR
VERSION:2.0
PRODID:-//ChamberMaster//Event Calendar 2.0//EN
METHOD:PUBLISH
X-PUBLISHED-TTL:P3D
REFRESH-INTERVAL:P3D
CALSCALE:GREGORIAN
BEGIN:VEVENT
DTSTART;VALUE=DATE:20070808
DTEND;VALUE=DATE:20070809
TRANSP:TRANSPARENT
X-MICROSOFT-CDO-ALLDAYEVENT:TRUE
SUMMARY:2007 Young Building Professionals Meeting
DESCRIPTION:Young Building Professionals Meeting\n\nOnly professionals between the ages of 21-40 are welcome to attend\n\n\n\nJoin the Lee BIA's newest council of young business professionals in the\n\nbuilding industry for their second organizational meeting on Wednesday\, August 8th!\n\nWhen:  5:30pm - 7:30pm\n\nLocation:  Royal Palm Yacht Club\, downtown Fort Myers\n\nDirections:  2360 W 1st St\, Fort Myers\, FL\n\nCost:  $25 Members / $35 Non-Members\n\nClick HERE to download the Reservation Form\n\nOR BIA Members can RSVP online below by clicking the "Register" button
X-ALT-DESC;FMTTYPE=text/html:<p><strong><u>Young Building Professionals Meeting</u></strong><br />\n<em>Only professionals between the ages of 21-40 are welcome to attend</em><br />\n<br />\nJoin the Lee BIA&rsquo\;s newest council of young business professionals in the<br />\nbuilding industry for their second organizational meeting on Wednesday\, August 8th!</p>\n\n<p><u>When</u>:&nbsp\; 5:30pm - 7:30pm<br />\n<u>Location</u>:&nbsp\; Royal Palm Yacht Club\, downtown Fort Myers<br />\n<u>Directions</u>:&nbsp\; <a href="javascript:void(window.open(?http://maps.yahoo.com/index.php#mvt=m&amp\;gid1=14533630&amp\;q1=2360%20W%201st%20St\,%20Fort%20Myers%20FL\,%20us&amp\;trf=0&amp\;lon=-81.880095&amp\;lat=26.635778&amp\;mag=3?\,??\,?resizable=no\,location=no\,menubar=no\,scrollbars=no\,status=no\,toolbar=no\,fullscreen=no\,dependent=no?))"><font color="#0000ff">2360 W 1st St\, Fort Myers\, FL</font></a><br />\n<u>Cost</u>:&nbsp\; $25 Members / $35 Non-Members</p>\n\n<p>Click <a href="javascript:void(window.open(?https://builderfusion.bia.net/bf/messaging/Young%20Building%20Professionals/YBP%20Meeting%20-%208.8.07.pdf?\,??\,?resizable=no\,location=no\,menubar=no\,scrollbars=no\,status=no\,toolbar=no\,fullscreen=no\,dependent=no?))"><strong><font color="#0000ff">HERE</font></strong></a> to download the Reservation Form<br />\nOR BIA Members can RSVP online below by clicking the &quot\;Register&quot\; button<br />\n&nbsp\;</p>\n
LOCATION:2360 W 1st Street Fort Myers\, FL 33901
UID:e.9371.61
SEQUENCE:3
DTSTAMP:20260421T162650Z
URL:http://members.bia.net/events/details/2007-young-building-professionals-meeting-08-08-2007-61
END:VEVENT

END:VCALENDAR
