BEGIN:VCALENDAR
VERSION:2.0
PRODID:-//ChamberMaster//Event Calendar 2.0//EN
METHOD:PUBLISH
X-PUBLISHED-TTL:P3D
REFRESH-INTERVAL:P3D
CALSCALE:GREGORIAN
BEGIN:VEVENT
DTSTART;VALUE=DATE:20111015
DTEND;VALUE=DATE:20111016
TRANSP:TRANSPARENT
X-MICROSOFT-CDO-ALLDAYEVENT:TRUE
SUMMARY:2011 BIA Industry Awards Celebration Dinner
DESCRIPTION:The BIA Industry Awards Celebration Dinner\n    Walk the Red Carpet and Shine Like a Star!  Celebrate Your Achievements!\n    \n    Saturday\, October 15th\, 2011\n    Sanibel Harbour Resort & Spa\n    Cocktail Hour/Cash Bar -- 6:00pm\n    Dinner & Awards Program -- 7:00pm\n    \n    $70 per person | $65 per person for tables of 6 or more\n    Includes Full Course Dinner and Evening Celebration\n    To RSVP to attend visit:  http://bia.net/documents/BIAIndustryAwards_EntryFormsWEB.pdf
X-ALT-DESC;FMTTYPE=text/html:<p><span style="font-size: 14px\;"><strong>The BIA Industry Awards Celebration Dinner</strong></span><br>    <em>Walk the Red Carpet and Shine Like a Star!&nbsp\; Celebrate Your Achievements!</em><br>    <br>    <strong>Saturday\, October 15th\, 2011</strong><br>    Sanibel Harbour Resort &amp\; Spa<br>    Cocktail Hour/Cash Bar -- 6:00pm<br>    Dinner &amp\; Awards Program -- 7:00pm<br>    <br>    $70 per person | $65 per person for tables of 6 or more<br>    Includes Full Course Dinner and Evening Celebration<br>    <strong>To RSVP to attend visit:&nbsp\; <a href="http://bia.net/documents/BIAIndustryAwards_EntryFormsWEB.pdf" target="_blank">http://bia.net/documents/BIAIndustryAwards_EntryFormsWEB.pdf</a></strong></p>
LOCATION:17260 Harbour Pointe Drive Fort Myers\, FL 33908
UID:e.9371.151
SEQUENCE:3
DTSTAMP:20260425T112639Z
URL:http://members.bia.net/events/details/2011-bia-industry-awards-celebration-dinner-10-15-2011-151
END:VEVENT

END:VCALENDAR
