BEGIN:VCALENDAR
VERSION:2.0
PRODID:-//ChamberMaster//Event Calendar 2.0//EN
METHOD:PUBLISH
X-PUBLISHED-TTL:P3D
REFRESH-INTERVAL:P3D
CALSCALE:GREGORIAN
BEGIN:VEVENT
DTSTART;VALUE=DATE:20061207
DTEND;VALUE=DATE:20061208
TRANSP:TRANSPARENT
X-MICROSOFT-CDO-ALLDAYEVENT:TRUE
SUMMARY:BIA Holiday Party
DESCRIPTION:Veranda Restaurant\n Cocktails\, Hors d oeuvers and entertainment!\n \n Click here for a registration form.
X-ALT-DESC;FMTTYPE=text/html:Veranda Restaurant<br /> Cocktails\, Hors d&acute\;oeuvers and entertainment!<br /> <br /> Click <a target="_blank" href="https://builderfusion.bia.net/bf/messaging/Holiday%20flyer%2006.pdf">here</a> for a registration form.
LOCATION:2122 Second Street (at Broadway) Fort Myers\, FL 33901
UID:e.9371.42
SEQUENCE:3
DTSTAMP:20260422T071149Z
URL:http://members.bia.net/events/details/bia-holiday-party-12-07-2006-42
END:VEVENT

END:VCALENDAR
