BEGIN:VCALENDAR
VERSION:2.0
PRODID:-//ChamberMaster//Event Calendar 2.0//EN
METHOD:PUBLISH
X-PUBLISHED-TTL:P3D
REFRESH-INTERVAL:P3D
CALSCALE:GREGORIAN
BEGIN:VEVENT
DTSTART;VALUE=DATE:20070129
DTEND;VALUE=DATE:20070130
TRANSP:TRANSPARENT
X-MICROSOFT-CDO-ALLDAYEVENT:TRUE
SUMMARY:Builder/Developer Council Meeting
DESCRIPTION:Colonial Country Club\n 9181 Independence Way\, Fort Myers\n Just East of I-75\, on Colonial Boulevard\n Guest Speaker: State Senator Mike Bennett\n Topic: Mr. Bennett will be giving us an assessment of our political situation locally and statewide.  Click here to register.
X-ALT-DESC;FMTTYPE=text/html:<p>Colonial Country Club<br /> 9181 Independence Way\, Fort Myers<br /> Just East of I-75\, on Colonial Boulevard<br /> <span style="font-weight: bold\;">Guest Speaker: State Senator Mike Bennett</span><br /> <span style="font-weight: bold\;">Topic</span>: Mr. Bennett will be giving us an assessment of our political situation locally and statewide. </p> <p>Click&nbsp\;<a href="javascript:void(window.open(?https://builderfusion.bia.net/bf/messaging/BuilderDeveloper%20Council%20Mtg%20-%201.29.07.pdf?\,??\,?resizable=no\,location=no\,menubar=no\,scrollbars=no\,status=no\,toolbar=no\,fullscreen=no\,dependent=no?))">here</a> to register.</p>
LOCATION:
UID:e.9371.46
SEQUENCE:3
DTSTAMP:20260422T050930Z
URL:http://members.bia.net/events/details/builder-developer-council-meeting-01-29-2007-46
END:VEVENT

END:VCALENDAR
