BEGIN:VCALENDAR
VERSION:2.0
PRODID:-//ChamberMaster//Event Calendar 2.0//EN
METHOD:PUBLISH
X-PUBLISHED-TTL:P3D
REFRESH-INTERVAL:P3D
CALSCALE:GREGORIAN
BEGIN:VEVENT
DTSTART;VALUE=DATE:20070426
DTEND;VALUE=DATE:20070427
TRANSP:TRANSPARENT
X-MICROSOFT-CDO-ALLDAYEVENT:TRUE
SUMMARY:Commercial Contractors Council Meeting
DESCRIPTION:Pelican Preserve Town Center - Magnolia Room\n Topic: "Lien Law - Time To Get Back To Basics"\n 5:30 pm - Cocktails & Hors d oeuvres\n 6:30 pm - Program\n Click here to download the attendee form
X-ALT-DESC;FMTTYPE=text/html:Pelican Preserve Town Center - Magnolia Room<br /> <strong>Topic: &quot\;Lien Law - Time To Get Back To Basics&quot\;<br /> </strong>5:30 pm - Cocktails &amp\; Hors d&acute\;oeuvres<br /> 6:30 pm - Program<br /> Click <a href="https://leebia-fl.builderfusion.com/bf/messaging/CCC%20Meeting%20-%204.26.07.pdf">here</a> to download the attendee form
LOCATION:
UID:e.9371.53
SEQUENCE:3
DTSTAMP:20260421T234809Z
URL:http://members.bia.net/events/details/commercial-contractors-council-meeting-04-26-2007-53
END:VEVENT

END:VCALENDAR
