BEGIN:VCALENDAR
VERSION:2.0
PRODID:-//ChamberMaster//Event Calendar 2.0//EN
METHOD:PUBLISH
X-PUBLISHED-TTL:P3D
REFRESH-INTERVAL:P3D
CALSCALE:GREGORIAN
BEGIN:VEVENT
DTSTART;VALUE=DATE:20061026
DTEND;VALUE=DATE:20061027
TRANSP:TRANSPARENT
X-MICROSOFT-CDO-ALLDAYEVENT:TRUE
SUMMARY:Commercial Contractors Council Meeting
DESCRIPTION:Pelican Preserve Town Center - Magnolia Room\n Topic: Immigration /  Labor Law\n 5:30 pm - Cocktails & Hors d oeuvres\n 6:30 pm - Program\n Click here for more information.
X-ALT-DESC;FMTTYPE=text/html:Pelican Preserve Town Center - Magnolia Room<br /> <strong>Topic: Immigration /&nbsp\; Labor Law</strong><br /> 5:30 pm - Cocktails &amp\; Hors d&acute\;oeuvres<br /> 6:30 pm - Program<br /> Click <a href="https://builderfusion.bia.net/bf/messaging/CCC%20October%20Meeting%2006.pdf" target="_blank">here</a> for more information.
LOCATION:
UID:e.9371.38
SEQUENCE:3
DTSTAMP:20260422T110955Z
URL:http://members.bia.net/events/details/commercial-contractors-council-meeting-10-26-2006-38
END:VEVENT

END:VCALENDAR
