BEGIN:VCALENDAR
VERSION:2.0
PRODID:-//ChamberMaster//Event Calendar 2.0//EN
METHOD:PUBLISH
X-PUBLISHED-TTL:P3D
REFRESH-INTERVAL:P3D
CALSCALE:GREGORIAN
BEGIN:VEVENT
DTSTART;VALUE=DATE:20061130
DTEND;VALUE=DATE:20061201
TRANSP:TRANSPARENT
X-MICROSOFT-CDO-ALLDAYEVENT:TRUE
SUMMARY:Commercial Contractors Council Meeting
DESCRIPTION:Pelican Preserve Town Center - Magnolia Room\n Topic: OSHA\n 5:30 pm - Cocktails & Hors d oeuvres\n 6:30 pm - Program
X-ALT-DESC;FMTTYPE=text/html:Pelican Preserve Town Center - Magnolia Room<br /> <strong>Topic: OSHA<br /> </strong>5:30 pm - Cocktails &amp\; Hors d&acute\;oeuvres<br /> 6:30 pm - Program
LOCATION:
UID:e.9371.41
SEQUENCE:3
DTSTAMP:20260422T091851Z
URL:http://members.bia.net/events/details/commercial-contractors-council-meeting-11-30-2006-41
END:VEVENT

END:VCALENDAR
