BEGIN:VCALENDAR
VERSION:2.0
PRODID:-//ChamberMaster//Event Calendar 2.0//EN
METHOD:PUBLISH
X-PUBLISHED-TTL:P3D
REFRESH-INTERVAL:P3D
CALSCALE:GREGORIAN
BEGIN:VEVENT
DTSTART;VALUE=DATE:20061025
DTEND;VALUE=DATE:20061026
TRANSP:TRANSPARENT
X-MICROSOFT-CDO-ALLDAYEVENT:TRUE
SUMMARY:Construction Forecast Conference
DESCRIPTION:Fall Conference in Washington\, DC brought to you via WebCast!\n Topics to include\, but not limited to:      Construction Management      Construction Statistics      Economic & Housing Data      Economic Forecasts   For more information\, please click here.\n \n Only 20 Seats Available - RSVP Today!!
X-ALT-DESC;FMTTYPE=text/html:<font style="font-size: 12px\;">Fall Conference in Washington\, DC brought to you via <strong>WebCast</strong>!</font><br /> Topics to include\, but not limited to: <ul>     <li>Construction Management </li>     <li>Construction Statistics </li>     <li>Economic &amp\; Housing Data </li>     <li>Economic Forecasts </li> </ul> For more information\, please click <a target="_blank" href="https://builderfusion.bia.net/bf/messaging/Const%20Forecast%20Conf.pdf">here</a>.<br /> <br /> <strong><font color="#ffffff" style="font-size: 14px\;"><font style="background-color: rgb(255\, 0\, 0)\;">Only 20 Seats Available - RSVP Today!</font>!</font></strong>
LOCATION:1870 Clayton Court Fort Myers\, FL 33905
UID:e.9371.37
SEQUENCE:3
DTSTAMP:20260422T110356Z
URL:http://members.bia.net/events/details/construction-forecast-conference-10-25-2006-37
END:VEVENT

END:VCALENDAR
