BEGIN:VCALENDAR
VERSION:2.0
PRODID:-//ChamberMaster//Event Calendar 2.0//EN
METHOD:PUBLISH
X-PUBLISHED-TTL:P3D
REFRESH-INTERVAL:P3D
CALSCALE:GREGORIAN
BEGIN:VEVENT
DTSTART;VALUE=DATE:20070227
DTEND;VALUE=DATE:20070228
TRANSP:TRANSPARENT
X-MICROSOFT-CDO-ALLDAYEVENT:TRUE
SUMMARY:February General Membership Meeting
DESCRIPTION:Colonial Country Club\n Just East of I-75\, on Colonial Boulevard\n Speaker: John Haas\, Management Strategies Group\n Topic: The Power of Performance Based Incentives \n 5:30 pm - Registration and Networking\n 6:30 pm - Program \n To register\, please click here.\n For more information about this event's program\, please click here.
X-ALT-DESC;FMTTYPE=text/html:Colonial Country Club<br /> Just&nbsp\;East of I-75\, on Colonial Boulevard<br /> <strong>Speaker: John Haas\, Management Strategies Group</strong><br /> <strong>Topic: The Power of Performance Based Incentives&nbsp\;</strong><br /> 5:30 pm - Registration and Networking<br /> 6:30 pm - Program <br /> To register\, please click <a target="_blank" href="https://builderfusion.bia.net/bf/messaging/Feb%20GMM.pdf">here</a>.<br /> For more information about this event's program\, please click <a target="_blank" href="https://builderfusion.bia.net/bf/messaging/Feb.%20Program%20Summary.pdf">here</a>.
LOCATION:9181 Independence Way Fort Myers\, FL 33913
UID:e.9371.47
SEQUENCE:3
DTSTAMP:20260422T033914Z
URL:http://members.bia.net/events/details/february-general-membership-meeting-02-27-2007-47
END:VEVENT

END:VCALENDAR
