BEGIN:VCALENDAR
VERSION:2.0
PRODID:-//ChamberMaster//Event Calendar 2.0//EN
METHOD:PUBLISH
X-PUBLISHED-TTL:P3D
REFRESH-INTERVAL:P3D
CALSCALE:GREGORIAN
BEGIN:VEVENT
DTSTART;VALUE=DATE:20070405
DTEND;VALUE=DATE:20070406
TRANSP:TRANSPARENT
X-MICROSOFT-CDO-ALLDAYEVENT:TRUE
SUMMARY:Future Building Professionals Meeting
DESCRIPTION:Future Building Professionals Meeting\n Stonewood Grill & Tavern\, Fort Myers\n 5:30 - 7:30pm\n $10 per person\n ***By Invitation Only\n \n Please click here to download the reservation form\n \n Directions:  \n Located on the corner of College Parkway and US-41
X-ALT-DESC;FMTTYPE=text/html:<strong>Future Building Professionals Meeting</strong><br /> Stonewood Grill &amp\; Tavern\, Fort Myers<br /> 5:30 - 7:30pm<br /> $10 per person<br /> ***By Invitation Only<br /> <br /> Please click <a href="https://leebia-fl.builderfusion.com/bf/messaging/Future%20Building%20Professionals%20-%20Meeting%20Reservation%20Form.pdf">here</a> to download the reservation form<br /> <br /> Directions:&nbsp\; <br /> Located on the corner of College Parkway and US-41
LOCATION:
UID:e.9371.50
SEQUENCE:3
DTSTAMP:20260421T234634Z
URL:http://members.bia.net/events/details/future-building-professionals-meeting-04-05-2007-50
END:VEVENT

END:VCALENDAR
