BEGIN:VCALENDAR
VERSION:2.0
PRODID:-//ChamberMaster//Event Calendar 2.0//EN
METHOD:PUBLISH
X-PUBLISHED-TTL:P3D
REFRESH-INTERVAL:P3D
CALSCALE:GREGORIAN
BEGIN:VEVENT
DTSTART;VALUE=DATE:20061117
DTEND;VALUE=DATE:20061118
TRANSP:TRANSPARENT
X-MICROSOFT-CDO-ALLDAYEVENT:TRUE
SUMMARY:Installation Banquet & Casino Night!
DESCRIPTION:Sanibel Harbour Resort & Spa\n Everglades Ballroom\n 6:30 pm - Cocktails\n 7:30 pm - Dinner (Installation)\n 8:30 pm - Casino Opens\n \n Call 239-936-5525 for more information.  This event is Sold Out.
X-ALT-DESC;FMTTYPE=text/html:Sanibel Harbour Resort &amp\; Spa<br /> Everglades Ballroom<br /> 6:30 pm - Cocktails<br /> 7:30 pm - Dinner (Installation)<br /> 8:30 pm - Casino Opens<br /> <br /> Call 239-936-5525&nbsp\;for more information.&nbsp\; This event is&nbsp\;Sold Out.&nbsp\;
LOCATION:17260 Harbour Pointe Drive Fort Myers\, FL 33908
UID:e.9371.39
SEQUENCE:3
DTSTAMP:20260422T091052Z
URL:http://members.bia.net/events/details/installation-banquet-casino-night-11-17-2006-39
END:VEVENT

END:VCALENDAR
