BEGIN:VCALENDAR
VERSION:2.0
PRODID:-//ChamberMaster//Event Calendar 2.0//EN
METHOD:PUBLISH
X-PUBLISHED-TTL:P3D
REFRESH-INTERVAL:P3D
CALSCALE:GREGORIAN
BEGIN:VEVENT
DTSTART;VALUE=DATE:20061128
DTEND;VALUE=DATE:20061129
TRANSP:TRANSPARENT
X-MICROSOFT-CDO-ALLDAYEVENT:TRUE
SUMMARY:International Design Center Open House & GM Meeting
DESCRIPTION:BIA VIP Open House\n Progressive Cocktail Party\n IDC Showrooms
X-ALT-DESC;FMTTYPE=text/html:<strong>BIA VIP Open House<br /> </strong>Progressive Cocktail Party<br /> IDC Showrooms
LOCATION:10801 Corkscrew Road Estero\, FL 33928
UID:e.9371.40
SEQUENCE:3
DTSTAMP:20260422T090115Z
URL:http://members.bia.net/events/details/international-design-center-open-house-gm-meeting-11-28-2006-40
END:VEVENT

END:VCALENDAR
