BEGIN:VCALENDAR
VERSION:2.0
PRODID:-//ChamberMaster//Event Calendar 2.0//EN
METHOD:PUBLISH
X-PUBLISHED-TTL:P3D
REFRESH-INTERVAL:P3D
CALSCALE:GREGORIAN
BEGIN:VEVENT
DTSTART;VALUE=DATE:20070123
DTEND;VALUE=DATE:20070124
TRANSP:TRANSPARENT
X-MICROSOFT-CDO-ALLDAYEVENT:TRUE
SUMMARY:January General Membership Meeting
DESCRIPTION:Colonial Country Club\n Just East of I-75\, on Colonial Boulevard\n Speaker: Christina Schwinn\, PA\, Pavese Law Firm\n Topic: Construction Labor Law\n 5:30 pm - Registration and Networking\n 6:30 pm - Program  To register\, please click here.
X-ALT-DESC;FMTTYPE=text/html:<p>Colonial Country Club<br /> Just&nbsp\;East of I-75\, on Colonial Boulevard<br /> <strong>Speaker: Christina Schwinn\, PA\, <em>Pavese Law Firm</em><br /> Topic: Construction Labor Law</strong><br /> 5:30 pm - Registration and Networking<br /> 6:30 pm - Program </p> <p>To register\, please click <a target="_blank" href="https://builderfusion.bia.net/bf/messaging/Jan%20GMM%20Flyer.pdf">here</a>.</p>
LOCATION:9181 Independence Way Fort Myers\, FL 33913
UID:e.9371.45
SEQUENCE:3
DTSTAMP:20260422T051524Z
URL:http://members.bia.net/events/details/january-general-membership-meeting-01-23-2007-45
END:VEVENT

END:VCALENDAR
