BEGIN:VCALENDAR
VERSION:2.0
PRODID:-//ChamberMaster//Event Calendar 2.0//EN
METHOD:PUBLISH
X-PUBLISHED-TTL:P3D
REFRESH-INTERVAL:P3D
CALSCALE:GREGORIAN
BEGIN:VEVENT
DTSTART;VALUE=DATE:20070327
DTEND;VALUE=DATE:20070328
TRANSP:TRANSPARENT
X-MICROSOFT-CDO-ALLDAYEVENT:TRUE
SUMMARY:Keys To Your Selling Success Program
DESCRIPTION:Colonial Country Club\n Just East of I-75\, on Colonial Boulevard\n Keys To Your Selling Success Workshops\n Sales Training Provided by Lee Knapp\, Knapp Consultants\n Workshop 1: Your Inner Sales Comes First\n 8:00 am: Continental Breakfast & Registration\n 8:30 am - 10:30 am: Program \n For more information and to register\, please click here.
X-ALT-DESC;FMTTYPE=text/html:Colonial Country Club<br /> Just&nbsp\;East of I-75\, on Colonial Boulevard<br /> <strong><em>Keys To Your Selling Success</em> Workshops</strong><br /> Sales Training Provided by Lee Knapp\, Knapp Consultants<br /> <strong>Workshop 1: Your Inner Sales Comes First</strong><br /> 8:00 am: Continental Breakfast &amp\; Registration<br /> 8:30 am - 10:30 am: Program <br /> For more information and to register\, please click <a href="https://builderfusion.bia.net/bf/messaging/SMC%20Workshops%20Flyer.pdf" target="_blank">here</a>.
LOCATION:
UID:e.9371.49
SEQUENCE:3
DTSTAMP:20260422T014722Z
URL:http://members.bia.net/events/details/keys-to-your-selling-success-program-03-27-2007-49
END:VEVENT

END:VCALENDAR
