BEGIN:VCALENDAR
VERSION:2.0
PRODID:-//ChamberMaster//Event Calendar 2.0//EN
METHOD:PUBLISH
X-PUBLISHED-TTL:P3D
REFRESH-INTERVAL:P3D
CALSCALE:GREGORIAN
BEGIN:VEVENT
DTSTART;VALUE=DATE:20071013
DTEND;VALUE=DATE:20071014
TRANSP:TRANSPARENT
X-MICROSOFT-CDO-ALLDAYEVENT:TRUE
SUMMARY:Lee BIA Fall Golf Tournament
DESCRIPTION:Join us on October 13th for our\n 2007 Fall Golf Tournament\n at Colonial Country Club in Fort Myers.\n  7:30am - Registration 8:30am - Shotgun Start Click HERE to download the Team Reservation and Sponsorship Form Click HERE to download the Sponsorship/Advertising Opportunities
X-ALT-DESC;FMTTYPE=text/html:<p>Join us on October 13th for our<br /> <strong>2007 Fall Golf Tournament</strong><br /> at Colonial Country Club in Fort Myers.<br /> </p> <p>7:30am - Registration</p> <p>8:30am - Shotgun Start</p> <p>Click <a style="FONT-WEIGHT: bold\; COLOR: rgb(0\,0\,255)" target="2007 LBIA Fall Golf Tournament" href="https://builderfusion.bia.net/bf/messaging/Golf/Fall_07%20Golf%20Flyer%20-%20as%20of%209.17.pdf">HERE</a> to download the Team Reservation and Sponsorship Form</p> <p>Click <a href="https://leebia-fl.builderfusion.com/bf/messaging/Golf/Fall_Golf_Advertising_Opportunities_Small1.pdf"><span style="FONT-WEIGHT: bold\; COLOR: rgb(0\,0\,255)\; TEXT-DECORATION: underline">HERE</span></a> to download the Sponsorship/Advertising Opportunities<br /> </p>
LOCATION:
UID:e.9371.67
SEQUENCE:3
DTSTAMP:20260421T130239Z
URL:http://members.bia.net/events/details/lee-bia-fall-golf-tournament-10-13-2007-67
END:VEVENT

END:VCALENDAR
