BEGIN:VCALENDAR
VERSION:2.0
PRODID:-//ChamberMaster//Event Calendar 2.0//EN
METHOD:PUBLISH
X-PUBLISHED-TTL:P3D
REFRESH-INTERVAL:P3D
CALSCALE:GREGORIAN
BEGIN:VEVENT
DTSTART;VALUE=DATE:20070505
DTEND;VALUE=DATE:20070506
TRANSP:TRANSPARENT
X-MICROSOFT-CDO-ALLDAYEVENT:TRUE
SUMMARY:Lee BIA Spring Golf Tournament
DESCRIPTION:Join the Lee BIA on May 5th for our\n 2007 Lee BIA Spring Golf Tournament\n at Colonial Country Club in Fort Myers\n \n Click here to download the\n Team Reservation and Sponsorship Information
X-ALT-DESC;FMTTYPE=text/html:<p>Join the Lee BIA on May 5th for our<br /> <strong>2007 Lee BIA Spring Golf Tournament</strong><br /> at Colonial Country Club in Fort Myers<br /> <br /> Click <a href="https://builderfusion.bia.net/bf/messaging/May%205%202007-Golf.pdf">here</a> to download the<br /> Team Reservation and Sponsorship Information</p>
LOCATION:
UID:e.9371.54
SEQUENCE:3
DTSTAMP:20260421T220056Z
URL:http://members.bia.net/events/details/lee-bia-spring-golf-tournament-05-05-2007-54
END:VEVENT

END:VCALENDAR
