BEGIN:VCALENDAR
VERSION:2.0
PRODID:-//ChamberMaster//Event Calendar 2.0//EN
METHOD:PUBLISH
X-PUBLISHED-TTL:P3D
REFRESH-INTERVAL:P3D
CALSCALE:GREGORIAN
BEGIN:VEVENT
DTSTART;VALUE=DATE:20070522
DTEND;VALUE=DATE:20070523
TRANSP:TRANSPARENT
X-MICROSOFT-CDO-ALLDAYEVENT:TRUE
SUMMARY:May General Membership Meeting
DESCRIPTION:Hosted by Stevens Industries\n  Join us for their Grand Opening!\n Hors d'oeuvres\, beer\, wine and door prizes.\n 4:00 pm - 7:00 pm \n $5 per person  Click here for more information.
X-ALT-DESC;FMTTYPE=text/html:<p>Hosted by&nbsp\;<a href="https://leebia-fl.builderfusion.com/bf/messaging/Builders%20Care%20Correct.jpg">Stevens Industries</a><span style="text-decoration: underline\;"><br /> </span></p> <p><span style="text-decoration: underline\;"></span>Join us for their <strong>Grand Opening</strong>!<br /> Hors d&rsquo\;oeuvres\, beer\, wine&nbsp\;and door prizes.<br /> 4:00 pm - 7:00 pm <br /> $5 per person </p> <p>Click <a target="_blank" href="https://builderfusion.bia.net/bf/messaging/May%2007%20GMM%20flyer.pdf">here</a> for more information.</p>
LOCATION:16710 Gator Road Fort Myers\, FL 33912
UID:e.9371.56
SEQUENCE:3
DTSTAMP:20260421T215943Z
URL:http://members.bia.net/events/details/may-general-membership-meeting-05-22-2007-56
END:VEVENT

END:VCALENDAR
