BEGIN:VCALENDAR
VERSION:2.0
PRODID:-//ChamberMaster//Event Calendar 2.0//EN
METHOD:PUBLISH
X-PUBLISHED-TTL:P3D
REFRESH-INTERVAL:P3D
CALSCALE:GREGORIAN
BEGIN:VEVENT
DTSTART;VALUE=DATE:20061024
DTEND;VALUE=DATE:20061025
TRANSP:TRANSPARENT
X-MICROSOFT-CDO-ALLDAYEVENT:TRUE
SUMMARY:October General Membership
DESCRIPTION:BIA Halloween Party\n Ferguson Showroom\n Join us for some spooky fun! \n Prizes given for most creative costumes! \n Complementary Beer & Wine\, Hors d'oeuvres
X-ALT-DESC;FMTTYPE=text/html:<strong>BIA Halloween Party</strong><br /> Ferguson Showroom<br /> Join us for some spooky fun!&nbsp\;<br /> Prizes given for most creative costumes!&nbsp\;<br /> Complementary Beer &amp\; Wine\, Hors d&lsquo\;oeuvres
LOCATION:
UID:e.9371.36
SEQUENCE:3
DTSTAMP:20260422T111220Z
URL:http://members.bia.net/events/details/october-general-membership-10-24-2006-36
END:VEVENT

END:VCALENDAR
