BEGIN:VCALENDAR
VERSION:2.0
PRODID:-//ChamberMaster//Event Calendar 2.0//EN
METHOD:PUBLISH
X-PUBLISHED-TTL:P3D
REFRESH-INTERVAL:P3D
CALSCALE:GREGORIAN
BEGIN:VEVENT
DTSTART;VALUE=DATE:20071023
DTEND;VALUE=DATE:20071024
TRANSP:TRANSPARENT
X-MICROSOFT-CDO-ALLDAYEVENT:TRUE
SUMMARY:October General Membership Meeting
DESCRIPTION:October General Membership Meeting Speaker: Brad Hunter\, Metrostudy Topic: Southwest Florida Markets 5:30pm - 6:30pm: Cash Bar\, Hors D'oeuvres\, Networking 6:30pm - 7:30pm: Program Colonial Country Club $25 Members | $30 Non-Members Click HERE to download the Reservation Form
X-ALT-DESC;FMTTYPE=text/html:<p>October General Membership Meeting</p> <p>Speaker: Brad Hunter\, Metrostudy</p> <p>Topic: Southwest Florida Markets</p> <p>5:30pm - 6:30pm: Cash Bar\, Hors D&rsquo\;oeuvres\, Networking</p> <p>6:30pm - 7:30pm: Program</p> <p>Colonial Country Club</p> <p>$25 Members | $30 Non-Members</p> <p>Click <a href="javascript:void(window.open(&rsquo\;https://builderfusion.bia.net/bf/messaging/GMM/Oct_07GMM%20Flyer.pdf&rsquo\;\,&rsquo\;&rsquo\;\,&rsquo\;resizable=no\,location=no\,menubar=no\,scrollbars=no\,status=no\,toolbar=no\,fullscreen=no\,dependent=no&rsquo\;))"><strong><font color="#0000ff">HERE</font></strong></a> to download the Reservation Form</p>
LOCATION:9181 Independence Way Ft Myers\, FL 33913
UID:e.9371.68
SEQUENCE:3
DTSTAMP:20260421T125008Z
URL:http://members.bia.net/events/details/october-general-membership-meeting-10-23-2007-68
END:VEVENT

END:VCALENDAR
