BEGIN:VCALENDAR
VERSION:2.0
PRODID:-//ChamberMaster//Event Calendar 2.0//EN
METHOD:PUBLISH
X-PUBLISHED-TTL:P3D
REFRESH-INTERVAL:P3D
CALSCALE:GREGORIAN
BEGIN:VEVENT
DTSTART;VALUE=DATE:20061020
DTEND;VALUE=DATE:20061021
TRANSP:TRANSPARENT
X-MICROSOFT-CDO-ALLDAYEVENT:TRUE
SUMMARY:Parade of Homes 2007 - Model Entries Due
DESCRIPTION:Be a part of this exciting real estate event! \n Builders: Please click here for official entry packet.
X-ALT-DESC;FMTTYPE=text/html:<font style="font-size: 14px\; color: rgb(255\, 0\, 0)\; font-weight: bold\;">Be a part of this exciting real estate event!</font>&nbsp\;<br /> <strong style="font-style: italic\;">Builders: Please click <a href="http://www.bia.net/documents/CompleteBuilderPackage.pdf" target="_blank">here</a> for official entry packet.</strong>
LOCATION:
UID:e.9371.35
SEQUENCE:3
DTSTAMP:20260422T111257Z
URL:http://members.bia.net/events/details/parade-of-homes-2007-model-entries-due-10-20-2006-35
END:VEVENT

END:VCALENDAR
