BEGIN:VCALENDAR
VERSION:2.0
PRODID:-//ChamberMaster//Event Calendar 2.0//EN
METHOD:PUBLISH
X-PUBLISHED-TTL:P3D
REFRESH-INTERVAL:P3D
CALSCALE:GREGORIAN
BEGIN:VEVENT
DTSTART;VALUE=DATE:20070303
DTEND;VALUE=DATE:20070304
TRANSP:TRANSPARENT
X-MICROSOFT-CDO-ALLDAYEVENT:TRUE
SUMMARY:Parade of Homes Awards Ceremony
DESCRIPTION:Sanibel Harbour Resort & Spa\n Palms Ballroom\n To RSVP\, please click here.
X-ALT-DESC;FMTTYPE=text/html:Sanibel Harbour Resort &amp\; Spa<br /> Palms Ballroom<br /> <strong><em>To RSVP\, please click <a target="_blank" href="https://builderfusion.bia.net/bf/messaging/POH%20Invite.pdf">here</a>.</em></strong>
LOCATION:
UID:e.9371.48
SEQUENCE:3
DTSTAMP:20260422T014901Z
URL:http://members.bia.net/events/details/parade-of-homes-awards-ceremony-03-03-2007-48
END:VEVENT

END:VCALENDAR
