BEGIN:VCALENDAR
VERSION:2.0
PRODID:-//ChamberMaster//Event Calendar 2.0//EN
METHOD:PUBLISH
X-PUBLISHED-TTL:P3D
REFRESH-INTERVAL:P3D
CALSCALE:GREGORIAN
BEGIN:VEVENT
DTSTART;VALUE=DATE:20070419
DTEND;VALUE=DATE:20070420
TRANSP:TRANSPARENT
X-MICROSOFT-CDO-ALLDAYEVENT:TRUE
SUMMARY:Pinnacle Awards Ceremony
DESCRIPTION:2007 Pinnacle Awards Ceremony\n Hyatt Regency Coconut Point\n 6:30pm - Reception\n 7:30pm - Celebration Dinner & Awards More details soon.
X-ALT-DESC;FMTTYPE=text/html:<p><strong>2007 Pinnacle Awards&nbsp\;Ceremony</strong><br /> Hyatt Regency Coconut Point<br /> 6:30pm - Reception<br /> 7:30pm - Celebration Dinner &amp\; Awards</p> <p>More details soon.</p>
LOCATION:
UID:e.9371.52
SEQUENCE:3
DTSTAMP:20260421T234453Z
URL:http://members.bia.net/events/details/pinnacle-awards-ceremony-04-19-2007-52
END:VEVENT

END:VCALENDAR
