BEGIN:VCALENDAR
VERSION:2.0
PRODID:-//ChamberMaster//Event Calendar 2.0//EN
METHOD:PUBLISH
X-PUBLISHED-TTL:P3D
REFRESH-INTERVAL:P3D
CALSCALE:GREGORIAN
BEGIN:VEVENT
DTSTART;VALUE=DATE:20070711
DTEND;VALUE=DATE:20070712
TRANSP:TRANSPARENT
X-MICROSOFT-CDO-ALLDAYEVENT:TRUE
SUMMARY:2007 Senator Bennett Campaign Reception & Celebration Dinner
DESCRIPTION:Campaign Reception & Celebration Dinner for\n\nFlorida Senator Michael "Mike" Bennett\n\n\n\nWednesday\, July 11\, 2007\n\nSanibel Harbour Resort &Spa\n\n\n\nCampaign Reception:  5:30pm - 7:00pm\n\nClick here to download the Campaign Reception Reservation Only Form\n\n\n\nCelebration Dinner:  7:00pm\n\nClick here to download the Celebration Dinner Reservation Only Form\n\n\n\nDirections:  17260 Harbour Pointe Drive\, Fort Myers\, FL\n\nTo RSVP:  Please fax back one or both applicable forms to (239) 936-5839\n\n\n\n\n\nThe purchase of a ticket for\, or a contribution to\, the campaign fundraiser is a contribution to the campaign to Re-elect Senator Mike Bennett. Contributions are not tax deductible. The maximum contribution allowed by law is $500.00 per person or business entity in an election cycle. Political advertisement paid for and approved by Michael "Mike" Bennett\, Republican\, for State Senator District 21
X-ALT-DESC;FMTTYPE=text/html:<p><strong><u>Campaign Reception &amp\; Celebration Dinner for<br />\nFlorida Senator Michael &quot\;Mike&quot\; Bennett</u></strong><br />\n<br />\n<strong>Wednesday\, July 11\, 2007</strong><br />\n<em>Sanibel Harbour Resort &amp\;Spa</em><br />\n<br />\n<em><strong><u>Campaign Reception</u>:</strong></em>&nbsp\;&nbsp\;5:30pm - 7:00pm<br />\nClick <a href="javascript:void(window.open('https://builderfusion.bia.net/bf/messaging/Political%20Events/Senator%20Bennett%20Reception.pdf'\,''\,'resizable=no\,location=no\,menubar=no\,scrollbars=no\,status=no\,toolbar=no\,fullscreen=no\,dependent=no'))"><strong>here</strong></a> to download the <strong><em><u>Campaign Reception</u> Reservation</em></strong> Only Form<br />\n<br />\n<strong><em><u>Celebration Dinner</u>:</em></strong>&nbsp\; 7:00pm<br />\nClick <a href="javascript:void(window.open('https://builderfusion.bia.net/bf/messaging/Political%20Events/Senator%20Bennett%20Dinner.pdf'\,''\,'resizable=no\,location=no\,menubar=no\,scrollbars=no\,status=no\,toolbar=no\,fullscreen=no\,dependent=no'))"><strong>here</strong></a> to download the <strong><em><u>Celebration Dinner</u> Reservation</em></strong> Only Form<br />\n<br />\nDirections:&nbsp\; <a href="http://maps.yahoo.com/\;_ylc=X3oDMTExNmIycG51BF9TAzI3MTYxNDkEc2VjA2ZwLWJ1dHRvbgRzbGsDbGluaw--#mvt=m&amp\;gid1=14551768&amp\;q1=17260%20Harbour%20Pointe%20Drive\,%20Fort%20Myers\,%20FL&amp\;trf=0&amp\;lon=-82.009914&amp\;lat=26.486303&amp\;mag=3">17260 Harbour Pointe Drive\, Fort Myers\, FL</a></p>\n\n<p align="left"><em><strong><u>To RSVP:&nbsp\; Please fax back one or both applicable forms to (239) 936-5839</u></strong><br />\n<br />\n<br />\n<span style="FONT-SIZE: 7.5pt\; LINE-HEIGHT: 100%">The purchase of a ticket for\, or a contribution to\, the campaign fundraiser is a contribution to the campaign to Re-elect Senator Mike Bennett.&nbsp\;Contributions are not tax deductible.&nbsp\;The maximum contribution allowed by law is $500.00 per person or business entity in an election cycle.&nbsp\;Political advertisement paid for and approved by Michael &ldquo\;Mike&rdquo\; Bennett\, Republican\, for State Senator District 21</span></em></p>\n
LOCATION:
UID:e.9371.59
SEQUENCE:3
DTSTAMP:20260421T182341Z
URL:http://members.bia.net/events/details/senator-bennett-campaign-reception-celebration-dinner-07-11-2007-59
END:VEVENT

END:VCALENDAR
